Workbook

Sheet Indicador
D2: FICHA TÉCNICA DE LOS INDICADORES | M2: Código | N2: FGE 001
M3: Versión | N3: 01
M4: Fecha | N4: 43243
B6: A. Identificación del indicador
B7: 1. Nombre del Indicador | D7: Capacidad de respuesta
B8: 2. Nombre el Proceso | D8: Adquisición de Bienes, Obras y Servicios
B9: 3. Objetivo del indicador | D9: Determinar el grado de oportunidad en la respuesta por parte de la Oficina de Asesoría Jurídica ante a la necesidad de un acompañamiento jurídico y logístico a las diferentes dependiencias de la institución
B10: 4. Tipo de Indicador | D10: Eficiencia
B12: B. Parámetros para la medición del indicador
B13: 5. Forma de Cálculo | D13: (Número de procesos entregados dentro de la meta al técnico / Número de procesos totales recibidos por modalidad) x 100
B14: 6. Frecuencia de la medición | D14: Mensual
B15: 7. Línea base | D15: Unidad de medida línea base | H15: Dato línea base (%) | K15: Fecha de corte línea base | M15: Julio de 2021
B16: P. Selección abreviada | D16: Unidad de medida línea base | F16: Porcentaje | H16: Dato línea base | J16: 0.86
B17: P. de concurso de méritos | D17: Unidad de medida línea base | F17: Porcentaje | H17: Dato línea base | J17: 0
B18: P. Mínima cuantía | D18: Unidad de medida línea base | F18: Porcentaje | H18: Dato línea base | J18: 1
B19: P. Licitación publica | D19: Unidad de medida línea base | F19: Porcentaje | H19: Dato línea base | J19: 0
B20: P. Contratación Directa | D20: Unidad de medida línea base | F20: Porcentaje | H20: Dato línea base | J20: 1
B21: P. Selección abreviada | D21: Unidad de medida de la meta | F21: Porcentaje | H21: Dato meta | J21: 1
B22: P. de concurso de méritos | D22: Unidad de medida de la meta | F22: Porcentaje | H22: Dato meta | J22: 1
B23: P. Mínima cuantía | D23: Unidad de medida de la meta | F23: Porcentaje | H23: Dato meta | J23: 1
B24: P. Licitación publica | D24: Unidad de medida de la meta | F24: Porcentaje | H24: Dato meta | J24: 1
B25: P. Contratación Directa | D25: Unidad de medida de la meta | F25: Porcentaje | H25: Dato meta | J25: 1
B27: C. Medición y análisis del indicador
B28: 9. Resultados de la medición actual e histórica
C29: P. de Selección Abreviada | F29: P. de Concurso de Méritos | I29: P. de Mínima Cuantía | L29: P. de Licitación Pública | O29: P. de Contratación Directa
B30: Mes | C30: Número de procesos entregados dentro de la meta al técnico | D30: Número de procesos totales recibidos por modalidad | E30: % de eficiencia en los tiempos de respuesta Selección Abreviada | F30: Número de procesos entregados dentro de la meta al técnico | G30: Número de procesos totales recibidos por modalidad | H30: % de eficiencia en los tiempos de respuesta Concurso de Méritos | I30: Número de procesos entregados dentro de la meta al técnico | J30: Número de procesos totales recibidos por modalidad | K30: % de eficiencia en los tiempos de respuesta Mínima Cuantía | L30: Número de procesos entregados dentro de la meta al técnico | M30: Número de procesos totales recibidos por modalidad | N30: % de eficiencia en los tiempos de respuesta Licitación Pública | O30: Número de procesos entregados dentro de la meta al técnico | P30: Número de procesos totales recibidos por modalidad | Q30: % de eficiencia en los tiempos de respuesta contratación directa
B31: Julio | C31: =+Resultados!D14 -> 6 | D31: =+Resultados!C14 -> 7 | E31: =IF(D31=0,0,C31/D31) -> 0.85714286 | F31: 0 | G31: 0 | H31: =IF(G31=0,0,F31/G31) -> 0 | I31: =+Resultados!D16 -> 15 | J31: =+Resultados!C16 -> 15 | K31: =IF(J31=0,0,I31/J31) -> 1 | L31: 0 | M31: 0 | N31: =IF(M31=0,0,L31/M31) -> 0 | O31: =+Resultados!D13 -> 1 | P31: =+Resultados!C13 -> 1 | Q31: =IF(P31=0,0,O31/P31) -> 1
B32: Agosto | C32: 2 | D32: 4 | E32: =IF(D32=0,0,C32/D32) -> 0.5 | F32: 0 | G32: 0 | H32: =IF(G32=0,0,F32/G32) -> 0 | I32: 14 | J32: 17 | K32: =IF(J32=0,0,I32/J32) -> 0.82352941 | L32: 0 | M32: 0 | N32: =IF(M32=0,0,L32/M32) -> 0 | O32: 4 | P32: 4 | Q32: =IF(P32=0,0,O32/P32) -> 1
B33: Septiembre | C33: 7 | D33: 7 | E33: =IF(D33=0,0,C33/D33) -> 1 | F33: 0 | G33: 0 | H33: =IF(G33=0,0,F33/G33) -> 0 | I33: 20 | J33: 22 | K33: =IF(J33=0,0,I33/J33) -> 0.90909091 | L33: 0 | M33: 0 | N33: =IF(M33=0,0,L33/M33) -> 0 | O33: 9 | P33: 14 | Q33: =IF(P33=0,0,O33/P33) -> 0.64285714
C34: 11 | D34: 16 | E34: =+C34/D34 -> 0.6875 | I34: 69 | J34: 74 | K34: =+I34/J34 -> 0.93243243
B35: 10. Representación gráfica de los resultados de la medición del indicador
B39: 11. Análisis de los resultados de la medición
B40: Con corte a 30 julio de 2021 Selección abreviada: El resultado obtenido para el indicador fue de un 86% con una brecha de 14 puntos porcentuales por debajo de la meta del 100%. En este mes se recibieron siete procesos contractuales bajo esta modalidad, de los cuales se respondieron seis dentro de uno a siete días hábiles que es el plazo máximo que determinó la oficina para atender los requerimientos de tipo jurídico y logístico. El resultado alcanzado ubica la gestión para esta modalidad, en un rango aceptado debido a que uno de los siete procesos recibidos fue devuelto de la oficina jurídica a los técnicos solicitantes a los ocho días hábiles luego de haberla recibido; esto debido a que una proporción importante del apoyo jurídico se encontraban en incapacidad o con calamidades familiares. Por ser una situación excepcional no se tomó ninguna acción correctiva. Sin embargo, como una acción preventiva se realizó en agosto un instructivo con la finalidad de facilitar la revisión y respuesta a las necesidades enviadas por los técnicos de las diferentes dependencias; este instructivo se compartió de forma masiva por la Dirección de Comunicaciones y Publicaciones. Concurso de Méritos: Durante el mes de julio no se realizaron procesos contractuales bajo esta modalidad Mínima cuantía: El resultado obtenido para el indicador fue de un 100% con respecto a la meta del 100%. En este mes se recibieron quince procesos contractuales bajo esta modalidad, de los cuales esta misma cantidad se respondió dentro de uno a seis días hábiles que es el plazo máximo que determinó la oficina para atender los requerimientos de tipo jurídico y logístico. El resultado en este periodo y su tendencia positiva obedece a una adecuada y oportuna respuesta a las solicitudes radicadas por las diferentes dependencias en la Oficina Asesora Jurídica Licitación Pública: Durante el mes de julio no se realizaron procesos contractuales bajo esta modalidad Contratación directa: El resultado obtenido para el indicador fue de un 100% con respecto a la meta del 100%. En este mes se recibió un proceso contractual bajo esta modalidad, la cual se respondió dentro de uno a cuatro días hábiles, que es el plazo máximo determinado por la oficina para atender los requerimientos de tipo jurídico y logístico. El resultado en este periodo y su tendencia positiva obedece a una adecuada y oportuna respuesta a las solicitudes radicadas por las diferentes dependencias en la Oficina Asesora Jurídica Con corte a 31 agosto de 2021 Selección abreviada: El resultado obtenido para el indicador fue de un 50% con una brecha de 50 puntos porcentuales por debajo de la meta del 100%. En este mes se recibieron cuatro procesos contractuales bajo esta modalidad, de los cuales se respondieron dos dentro de uno a siete días hábiles que es el plazo máximo que determinó la oficina para atender los requerimientos de tipo jurídico y logístico. El resultado alcanzado ubica la gestión para esta modalidad, en un rango deficiente debido a que dos de los cuatro procesos recibidos en la oficina fueron devueltos a los técnicos solicitantes fuera de los plazos determinados en ocho días o más. El comportamiento anterior tuvo su origen por una situación coyuntural de orden administrativo que no permitió al líder asignar los procesos de manera oportuna, para solucionar esta situación se tomó la decisión de designar a una de las abogadas para el apoyo a este proceso Acción correctiva: Concurso de Méritos: Durante el mes de agosto no se realizaron procesos contractuales bajo esta modalidad Mínima cuantía: El resultado obtenido para el indicador fue de un 82% con respecto a la meta del 100%, con una brecha de 28 puntos porcentuales por debajo de la meta del 100%. En este mes se recibieron diecisiete procesos contractuales bajo esta modalidad, de los cuales se respondieron catorce dentro de uno a seis días hábiles que es el plazo máximo que determinó la oficina para atender los requerimientos de tipo jurídico y logístico. El resultado alcanzado ubica la gestión para esta modalidad en un rango aceptable; lo que no implica tomar acciones preventivas. Sin embargo el resultado de este indicador en esta modalidad tuvo su origen por una situación coyuntural de orden administrativo que no permitió al líder asignar los procesos de manera oportuna, para solucionar esta situación se tomó la decisión de designar a una de las abogadas para el apoyo a este proceso Licitación Pública: Durante el mes de agosto no se realizaron procesos contractuales bajo esta modalidad Contratación directa: El resultado obtenido para el indicador fue de un 100% con respecto a la meta del 100%. En este mes se recibieron cuatro procesos contractuales bajo esta modalidad, los cuales se respondieron dentro de uno a cuatro días hábiles, que es el plazo máximo determinado por la oficina para atender los requerimientos de tipo jurídico y logístico. Con corte a 30 septiembre de 2021 Selección abreviada: El resultado obtenido para el indicador fue de un 100% con respecto a la meta del 100%. En este mes se recibieron siete procesos contractuales bajo esta modalidad, de los cuales la totalidad se respondieron dentro de uno a siete días hábiles que es el plazo máximo que determinó la oficina para atender los requerimientos de tipo jurídico y logístico. El resultado alcanzado ubica la gestión para esta modalidad, en un rango de gestión bueno. El resultado en este periodo y su tendencia positiva obedece a una adecuada y oportuna respuesta a las solicitudes radicadas por las diferentes dependencias en la Oficina Asesora Jurídica Concurso de Méritos: Durante el mes de agosto no se realizaron procesos contractuales bajo esta modalidad Mínima cuantía: El resultado obtenido para el indicador fue de un 91% con respecto a la meta del 100%, con una brecha de 9 puntos porcentuales por debajo de la meta del 100%. En este mes se recibieron veintidós procesos contractuales bajo esta modalidad, de los cuales se respondieron veinte dentro de uno a seis días hábiles que es el plazo máximo que determinó la oficina para atender los requerimientos de tipo jurídico y logístico. El resultado alcanzado ubica la gestión para esta modalidad en un rango de gestión bueno; esto evidencia la efectividad de las decisiones tomadas desde el mes de agosto, tales como: generación de instructivos, apoyo a la gestión del líder en la asignación grupos estructuradores de procesos contractuales. Licitación Pública: Durante el mes de septiembre no se realizaron procesos contractuales bajo esta modalidad Contratación directa: El resultado obtenido para el indicador fue de un 64% con respecto a la meta del 100%. En este mes se recibieron catorce procesos contractuales bajo esta modalidad, los cuales se respondieron nueve dentro de uno a cuatro días hábiles, que es el plazo máximo determinado por la oficina para atender los requerimientos de tipo jurídico y logístico. El resultado alcanzado ubica la gestión para esta modalidad en un rango deficiente; esto debido a que se identificó un incumplimiento de los compromisos de algunos funcionarios. Como acción correctiva se crea la necesidad de generar un tablero de control para realizar seguimiento a los procesos asignados a cada uno de los colaboradores de manera que se puedan tomar acciones preventivas antes del cierre del periodo en el que se materializan los resultados adversos.
B43: 12. Fecha de la última medición (d/m/a) | K43: Septiembre 30 de 2021
B44: 13. Fuente de la información | K44: Base de datos consolidada procesos contractuales
B46: D. Seguimiento y evaluación del indicador
B47: Seguimiento del indicador
B48: 14. Porcentaje de cumplimiento de la meta | D48: No aplica
B49: 15. Rango de Gestión | D49: Bueno | G49: Aceptable | K49: Deficiente
D50: ≥ 90% | G50: < 90% & ≥70% | K50: < 70%
B52: Evaluación del indicador
B53: 14. Porcentaje de cumplimiento de la meta | D53: Ver: Resultados de la medición actual e histórica
B54: 15. Rango de Gestión | D54: Bueno | G54: Aceptable | K54: Deficiente
D55: ≥ 90% | G55: < 90% & ≥ 70% | K55: < 70%
B56: 16. Acciones derivadas del resultado del indicador | D56: Acciones preventivas | J56: Acciones correctivas
D57: < 80% & ≥ 70% | J57: < 70%
B58: 17. Identificación de las acciones emprendidas derivadas del resultado del indicador | D58: Identificación de la acción preventiva emprendida | J58: Identificación de la acción correctiva emprendida
D59: No aplica | J59: 1.Consecutivos de g+ 2.

Sheet Resultados
B1: Incumplimiento
B2: Indicador | C2: Julio | D2: Agosto | E2: Septiembre | F2: Octubre | G2: Noviembre | H2: Diciembre
B3: C. Directa | C3: =+IF(E13=0%,0,IF(E13=100%,0,(1-E13))) -> 0 | D3: =+IF(E23=0%,0,IF(E23=100%,0,(1-E23))) -> 0 | E3: =+IF(E33=0%,0,IF(E33=100%,0,(1-E33))) -> 0.35714286
B4: S. Abreviada | C4: =+IF(E14=0%,0,IF(E14=100%,0,(1-E14))) -> 0.14285714 | D4: =+IF(E24=0%,0,IF(E24=100%,0,(1-E24))) -> 0.5 | E4: =+IF(E34=0%,0,IF(E34=100%,0,(1-E34))) -> 0
B5: C. Méritos | C5: =+IF(E15=0%,0,IF(E15=100%,0,(1-E15))) -> 0 | D5: =+IF(E25=0%,0,IF(E25=100%,0,(1-E25))) -> 0 | E5: =+IF(E35=0%,0,IF(E35=100%,0,(1-E35))) -> 0
B6: Mínima | C6: =+IF(E16=0%,0,IF(E16=100%,0,(1-E16))) -> 0 | D6: =+IF(E26=0%,0,IF(E26=100%,0,(1-E26))) -> 0.17647059 | E6: =+IF(E36=0%,0,IF(E36=100%,0,(1-E36))) -> 0.090909091
B7: Licitación | C7: =+IF(E17=0%,0,IF(E17=100%,0,(1-E17))) -> 0 | D7: =+IF(E27=0%,0,IF(E27=100%,0,(1-E27))) -> 0 | E7: =+IF(E37=0%,0,IF(E37=100%,0,(1-E37))) -> 0
B10: Resultado
C11: Julio
B12: Modalidad | C12: Total procesos | D12: Dentro del plazo | E12: Variación
B13: P. Contratación Directa | C13: 1 | D13: 1 | E13: =IFERROR(D13/C13,0) -> 1
B14: P. Selección abreviada | C14: 7 | D14: 6 | E14: =IFERROR(D14/C14,0) -> 0.85714286
B15: P. de concurso de méritos | E15: =IFERROR(D15/C15,0) -> 0
B16: P. Mínima cuantía | C16: 15 | D16: 15 | E16: =IFERROR(D16/C16,0) -> 1
B17: P. Licitación publica | E17: =IFERROR(D17/C17,0) -> 0
B20: Resultado
C21: Agosto
B22: Modalidad | C22: Total procesos | D22: Dentro del plazo | E22: Variación
B23: P. Contratación Directa | C23: 4 | D23: 4 | E23: =IFERROR(D23/C23,0) -> 1
B24: P. Selección abreviada | C24: 4 | D24: 2 | E24: =IFERROR(D24/C24,0) -> 0.5
B25: P. de concurso de méritos | E25: =IFERROR(D25/C25,0) -> 0
B26: P. Mínima cuantía | C26: 17 | D26: 14 | E26: =IFERROR(D26/C26,0) -> 0.82352941
B27: P. Licitación publica | E27: =IFERROR(D27/C27,0) -> 0
B30: Resultado
C31: Septiembre
B32: Modalidad | C32: Total procesos | D32: Dentro del plazo | E32: Variación
B33: P. Contratación Directa | C33: 14 | D33: 9 | E33: =IFERROR(D33/C33,0) -> 0.64285714
B34: P. Selección abreviada | C34: 7 | D34: 7 | E34: =IFERROR(D34/C34,0) -> 1
B35: P. de concurso de méritos | E35: =IFERROR(D35/C35,0) -> 0
B36: P. Mínima cuantía | C36: 22 | D36: 20 | E36: =IFERROR(D36/C36,0) -> 0.90909091
B37: P. Licitación publica | E37: =IFERROR(D37/C37,0) -> 0

Sheet Jurídica
A2: JULIO
A3: MODALIDAD CONTRACTUAL | B3: Cantidad de procesos devueltos en 0 día | C3: Cantidad de procesos devueltos en 1 día | D3: Cantidad de procesos devueltos en 2 días | E3: Cantidad de procesos devueltos en 3 días | F3: Cantidad de procesos devueltos en 4 días | G3: Cantidad de procesos devueltos en 5 días | H3: Cantidad de procesos devueltos en 6 días | I3: Cantidad de procesos devueltos en 7 días | J3: Cantidad de procesos devueltos en 8 días | K3: Cantidad de procesos devueltos en mas de 10 días | L3: TOTAL PROCESOS
A4: Mínima Cuantía | C4: 2 | D4: 2 | E4: 4 | F4: 3 | G4: 3 | H4: 1 | L4: =SUM(B4:K4) -> 15
A5: Contratación directa | E5: 1 | L5: =SUM(B5:K5) -> 1
A6: S.A Menor Cuantía | E6: 1 | G6: 1 | H6: 2 | L6: =SUM(B6:K6) -> 4
A7: S.A Subasta Inversa | C7: 1 | D7: 1 | J7: 1 | L7: =SUM(B7:K7) -> 3
A8: TOTALES | C8: =SUM(C4:C7) -> 3 | D8: =SUM(D4:D7) -> 3 | E8: =SUM(E4:E7) -> 6 | F8: =SUM(F4:F7) -> 3 | G8: =SUM(G4:G7) -> 4 | H8: =SUM(H4:H7) -> 3 | I8: =SUM(I4:I7) -> 0 | J8: =SUM(J4:J7) -> 1 | ... L8: =SUM(L4:L7) -> 23 | M8: 24
A11: AGOSTO
A12: MODALIDAD CONTRACTUAL | B12: Cantidad de procesos devueltos en 0 día | C12: Cantidad de procesos devueltos en 1 día | D12: Cantidad de procesos devueltos en 2 días | E12: Cantidad de procesos devueltos en 3 días | F12: Cantidad de procesos devueltos en 4 días | G12: Cantidad de procesos devueltos en 5 días | H12: Cantidad de procesos devueltos en 6 días | I12: Cantidad de procesos devueltos en 7 días | J12: Cantidad de procesos devueltos en 8 días | K12: Cantidad de procesos devueltos en mas de 10 días | L12: TOTAL PROCESOS
A13: Mínima Cuantía | B13: 1 | C13: 4 | D13: 4 | E13: 4 | F13: 1 | J13: 3 | L13: =SUM(B13:K13) -> 17 | N13: 6
A14: Contratación directa | C14: 3 | E14: 1 | L14: =SUM(B14:K14) -> 4 | N14: 4
A15: S.A Menor Cuantía | L15: =SUM(B15:K15) -> 0 | N15: 7
A16: S.A Subasta Inversa | D16: 1 | G16: 1 | J16: 1 | K16: 1 | L16: =SUM(B16:K16) -> 4
A17: TOTALES | B17: =SUM(C13:C16) -> 7 | D17: =SUM(D13:D16) -> 5 | E17: =SUM(E13:E16) -> 5 | F17: =SUM(F13:F16) -> 1 | G17: =SUM(G13:G16) -> 1 | H17: =SUM(H13:H16) -> 0 | I17: =SUM(I13:I16) -> 0 | J17: =SUM(J13:J16) -> 4 | K17: =SUM(K13:K16) -> 1 | L17: =SUM(L13:L16) -> 25
A20: SEPTIEMBRE
A21: MODALIDAD CONTRACTUAL | B21: Cantidad de procesos devueltos en 0 día | C21: Cantidad de procesos devueltos en 1 día | D21: Cantidad de procesos devueltos en 2 días | E21: Cantidad de procesos devueltos en 3 días | F21: Cantidad de procesos devueltos en 4 días | G21: Cantidad de procesos devueltos en 5 días | H21: Cantidad de procesos devueltos en 6 días | I21: Cantidad de procesos devueltos en 7 días | J21: Cantidad de procesos devueltos en 8 días | K21: Cantidad de procesos devueltos en mas de 10 días | L21: TOTAL PROCESOS
A22: Mínima Cuantía | C22: 3 | D22: 3 | E22: 4 | F22: 5 | G22: 2 | H22: 3 | I22: 2 | L22: =SUM(C22:K22) -> 22
A23: Contratación directa | F23: 9 | G23: 2 | J23: 1 | K23: 2 | L23: =SUM(C23:K23) -> 14
A24: S.A Menor Cuantía | L24: =SUM(C24:K24) -> 0
A25: S.A Subasta Inversa | C25: 1 | D25: 3 | E25: 3 | H25: 1 | L25: =SUM(C25:K25) -> 8
A26: TOTALES | B26: =SUM(C22:C25) -> 4 | D26: =SUM(D22:D25) -> 6 | E26: =SUM(E22:E25) -> 7 | F26: =SUM(F22:F25) -> 14 | G26: =SUM(G22:G25) -> 4 | H26: =SUM(H22:H25) -> 4 | I26: =SUM(I22:I25) -> 2 | J26: =SUM(J22:J25) -> 1 | K26: =SUM(K22:K25) -> 2 | L26: =SUM(L22:L25) -> 44
