Workbook
Name Procedimiento_seguimiento_al_desarrollo_curricular: #REF!
Name Procedimiento_seguimiento_al_desarrollo_curricular: #REF!
Name Procedimiento_seguimiento_al_desarrollo_curricular: #REF!

Sheet Ficha 2 ANUAL 
C2: FICHA TÉCNICA DE LOS INDICADORES | J2: Código | K2: FGE 001
J3: Versión | K3: 01
J4: Fecha | K4: 43243
B6: A. Identificación del indicador
B7: 1. Nombre del Indicador | C7: Ejecución financiera del plan de desarrollo
B8: 2. Nombre el Proceso | C8: Gestión Estratégica
B9: 3. Objetivo del indicador | C9: Medir el nivel de ejecución financiera del plan de acción respecto a las partidas programadas para el año
B10: 4. Tipo de Indicador | C10: Eficacia
B12: B. Parámetros para la medición del indicador
B13: 5. Forma de Cálculo | C13: (Ejecución financiera del plan de desarrollo / Plan plurianual de inversiones) x 100
B14: 6. Frecuencia de la medición | C14: Anual
B15: 7. Línea base | C15: Unidad de medida línea base | E15: Porcentaje | F15: Dato línea base | G15: No aplica | H15: Fecha de corte línea base | I15: No aplica
B16: 8. Meta | C16: Unidad de medida de la meta | E16: Porcentaje | F16: Dato meta | G16: 1
B17: * Seguimiento a diciembre 31 de 2021
B18: C. Medición y análisis del indicador
B19: 9. Resultados de la medición actual e histórica
C20: Resultado de la medición del indicador
B21: Líneas | C21: Valor total de inversión año 2020 (Plan Inicial) | D21: Valor total ejecutado a diciembre 31 de 2020 | E21: % de ejecución financiera con respecto al plan inicial a diciembre 31 de 2020 | F21: Valor total de inversión año 2021 (Plan Inicial) | G21: Valor total ejecutado a diciembre 31 de 2021 | H21: % de ejecución financiera con respecto al plan inicial a diciembre 31 de 2021
B22: Línea 1 | C22: 59872212964 | D22: 48042265619 | E22: =+D22/C22 -> 0.80241339 | F22: 60934270043 | G22: 5.2278928e+10 | H22: =+G22/F22 -> 0.85795609
B23: Línea 2 | C23: 7479334603 | D23: 7336684560 | E23: =+D23/C23 -> 0.98092744 | F23: 5143995325 | G23: 3.6746749e+09 | H23: =+G23/F23 -> 0.71436202
B24: Línea 3 | C24: 755000000 | D24: 511838228 | E24: =+D24/C24 -> 0.67793143 | F24: 1496124577 | G24: 1.2389579e+09 | H24: =+G24/F24 -> 0.82811144
B25: Línea 4 | C25: 1100000000 | D25: 1065082244 | E25: =+D25/C25 -> 0.96825659 | F25: 1396460464 | G25: 1.3775373e+09 | H25: =+G25/F25 -> 0.98644916
B26: Línea 5 | C26: 2775560876 | D26: 2374741841 | E26: =+D26/C26 -> 0.8555899 | F26: 3062874936 | G26: 2.5295423e+09 | H26: =+G26/F26 -> 0.8258719
B27: Línea 6 | C27: 13274106249 | D27: 8638162368 | E27: =+D27/C27 -> 0.65075284 | F27: 18215217982 | G27: 1.4288179e+10 | H27: =+G27/F27 -> 0.78440891
B28: Cumplimiento total del plan | C28: =+C22+C23+C24+C25+C26+C27 -> 85256214692 | D28: =+SUM(D22:D27) -> 67968774860 | E28: =+D28/C28 -> 0.79722956 | F28: =+SUM(F22:F27) -> 90248943327 | G28: =+SUM(G22:G27) -> 7.538782e+10 | H28: =+G28/F28 -> 0.83533188
B29: 10. Representación gráfica de los resultados de la medición del indicador
B43: 11. Análisis de los resultados de la medición
B44: Para la vigencia 2021 se presenta un porcentaje de ejecución financiera de 83,53%, siendo un 3,8% superior con respecto a la vigencia anterior. A continuación, se describe el comportamiento de la ejecución a nivel de cada una de las líneas estratégicas: Línea 1: Presenta una ejecución del 85,80%, los recursos no ejecutados que corresponde al 14,20%, de los cuales el 10,51% corresponde a recursos del proyecto "Apoyo PP para el acceso y permanencia de la educación" el cual se ejecuta conforme a lo priorizado por cada comuna. Línea 2: Esta línea estratégica presenta una ejecución del 71,44%, es decir que presenta una inejecución del 28,56%, del cual el 27,09% corresponde a los recursos del Plan de Fomento de la Calidad recibidos del Ministerio de Educación Nacional e incorporados al presupuesto el 06 de octubre de 2021 al proyecto "Fortalecimiento de la investigación para la innovación transformativa"; fecha en la cual no era posible la contrataciòn para la ejecuciòn de los recursos, por el principio de anualidad del presupuesto. Línea 3: Esta línea estratégica presenta una ejecución del 82,81% Línea 4: Esta línea estratégica presenta una ejecución del 98,64 % encontrándose en el rango de gestión Bueno. Línea 5: Esta línea estratégica presenta una ejecución del 82,59% Línea 6: Esta línea estratégica presenta una ejecución del 78,44%, la inejecución de esta Línea está representada en proyecto "Transformación digital del ITM" y el Proyecto "Consolidación de un modelo integrado de planeación con visión de futuro" que recibe recursos del Plan de Fomento de la Calidad del Ministerio de Educación Nacional e incorporados al presupuesto el 06 de octubre de 2021, fecha en la cual no era posible la contrataciòn para la ejecuciòn de los recursos por el principio de anualidad del presupuesto.
B46: 12. Fecha de la última medición (d/m/a) | H46: Diciembre 31 de 2021
B47: 13. Fuente de la información | H47: Dirección de Planeación
B49: D. Seguimiento y evaluación del indicador
B50: =+H28 -> 0.83533188
B51: 14. Porcentaje de cumplimiento de la meta | D51: No aplica
B52: 15. Rango de Gestión | D52: Bueno | F52: Aceptable | H52: Deficiente
D53: ≥ 90% | F53: < 90% & ≥ 70% | H53: < 70%
B55: Evaluación del indicador
B56: 14. Porcentaje de cumplimiento de la meta | D56: No aplica
B57: 15. Rango de Gestión | D57: Bueno | F57: Aceptable | H57: Deficiente
D58: ≥ 90% | F58: < 90% & ≥ 70% | H58: < 70%
B59: 16. Acciones derivadas del resultado del indicador | D59: Acciones preventivas | H59: Acciones correctivas
...

Sheet Ficha 3 SEMESTRAL 
C2: FICHA TÉCNICA DE LOS INDICADORES | J2: Código | K2: FGE 001
J3: Versión | K3: 01
J4: Fecha | K4: 43243
B6: A. Identificación del indicador
B7: 1. Nombre del Indicador | C7: Seguidores de la marca ITM en redes sociales
B8: 2. Nombre el Proceso | C8: Gestión Estratégica
B9: 3. Objetivo del indicador | C9: Monitorear la gestión de la comunicación a través del número de seguidores en las redes sociales, para fortalecer las relaciones con las diferentes partes interesadas
B10: 4. Tipo de Indicador | C10: Eficacia
B12: B. Parámetros para la medición del indicador
B13: 5. Forma de Cálculo | C13: (Número de seguidores de la marca ITM, en redes sociales en un período determinado/ Número de seguidores de la marca ITM esperados) x 100
B14: 6. Frecuencia de la medición | C14: Semestral
B15: 7. Línea base | C15: Facebook | D15: Unidad de medida de la meta | E15: Número | F15: Dato línea base | H15: 16344 | I15: Fecha de corte línea base | J15: Semestre 2 de 2016
C16: Twitter | E16: Número | F16: Dato línea base | H16: 5485
C17: Instagram | E17: Número | F17: Dato línea base | H17: 0
C18: LinkedIn | E18: Número | F18: Dato línea base | H18: No disponible
B19: 8. Meta | C19: Facebook | D19: Unidad de medida de la meta | E19: Número | F19: Dato meta | H19: 38000
C20: Twitter | E20: Número | F20: Dato meta | H20: 11500
C21: Instagram | E21: Número | F21: Dato meta | H21: 23500
C22: LinkedIn | E22: Número | F22: Dato meta | H22: 5000
B24: C. Medición y análisis del indicador
B25: 9. Resultados de la medición actual e histórica
B26: Semestre | C26: Resultado de la medición del indicador
C27: Facebook | E27: Twitter | G27: Instagram | I27: LinkedIn | K27: Número total de seguidores
C28: Número de seguidores de la marca ITM | D28: Resultado de la medición del indicador Facebook | E28: Número de seguidores de la marca ITM | F28: Resultado de la medición del indicador Twitter | G28: Número de seguidores de la marca ITM | H28: Resultado de la medición del indicador Instagram | I28: Número de seguidores de la marca ITM | J28: Resultado de la medición del indicador LinkedIn
B29: 2017-1 | C29: 19903 | D29: =+C29/19940 -> 0.99814443 | E29: 6030 | F29: =+E29/6692 -> 0.90107591 | G29: 1233 | H29: =+G29/1300 -> 0.94846154 | I29: 0 | K29: =+C29+E29+G29+I29 -> 27166 | M29: =+(C31-C29)/C29 -> 0.312164 | N29: =+C30*M29 -> 7291.5266
B30: 2017-2 | C30: 23358 | D30: =+C30/19940 -> 1.1714142 | E30: 6675 | F30: =+E30/6692 -> 0.99745965 | G30: 2181 | H30: =+G30/1300 -> 1.6776923 | I30: 0 | K30: =+C30+E30+G30+I30 -> 32214 | M30: =+(E31-E29)/E29 -> 0.21873964 | N30: =+E30*M30 -> 1460.0871
B31: 2018-1 | C31: 26116 | D31: =+C31/27232 -> 0.9590188 | E31: 7349 | F31: =+E31/8152 -> 0.90149657 | G31: 3738 | H31: =+G31/3905 -> 0.95723431 | I31: 0 | K31: =+C31+E31+G31+I31 -> 37203 | M31: =+(G31-G29)/G29 -> 2.0316302 | N31: =+G29*M31 -> 2505 | O31: Criterio diferencial
B32: 2018-2 | C32: 28624 | D32: =C32/27232 -> 1.0511163 | E32: 7961 | F32: =E32/8152 -> 0.97657017 | G32: 6724 | H32: =G32/3905 -> 1.721895 | I32: 0 | K32: =+C32+E32+G32+I32 -> 43309
B33: 2019-1 | C33: 31352 | D33: =C33/27232 -> 1.1512926 | E33: 8776 | F33: =E33/8152 -> 1.0765456 | G33: 10674 | H33: =G33/3905 -> 2.7334187 | I33: 0 | K33: =+C33+E33+G33+I33 -> 50802
B34: 2019-2 | C34: 33999 | D34: =C34/27232 -> 1.2484944 | E34: 9703 | F34: =E34/8152 -> 1.1902601 | G34: 15311 | H34: =G34/3905 -> 3.9208707 | I34: 0 | K34: =+C34+E34+G34+I34 -> 59013
B35: 2020-1 | C35: 36585 | D35: =C35/27232 -> 1.3434562 | E35: 11066 | F35: =E35/8152 -> 1.3574583 | G35: 21824 | H35: =G35/3905 -> 5.5887324 | I35: 0 | K35: =+C35+E35+G35+I35 -> 69475
B36: 2020-2 | C36: 39050 | D36: =C36/27232 -> 1.4339747 | E36: 11658 | F36: =E36/8152 -> 1.4300785 | G36: 24940 | H36: =G36/3905 -> 6.3866837 | I36: 3485 | J36: =+I36/3000 -> 1.1616667 | K36: =+C36+E36+G36+I36 -> 79133
B37: 2021-1 | C37: 41286 | D37: =+C37/H19 -> 1.0864737 | E37: 12284 | F37: =+E37/H20 -> 1.0681739 | G37: 27250 | H37: =+G37/H21 -> 1.1595745 | I37: 6043 | J37: =+I37/H22 -> 1.2086 | K37: =+C37+E37+G37+I37 -> 86863
B38: 2021-2 | C38: 46205 | D38: =+C38/H19 -> 1.2159211 | E38: 12693 | F38: =+E38/H20 -> 1.1037391 | G38: 30055 | H38: =+G38/H21 -> 1.2789362 | I38: 7990 | J38: =+I38/H22 -> 1.598 | K38: =+C38+E38+G38+I38 -> 96943
B39: 10. Representación gráfica de los resultados de la medición del indicador
B55: 11. Análisis de los resultados de la medición
B56: El resultado obtenido para el indicador “Seguidores de la marca ITM en redes sociales” se ubica en un rango de gestión bueno para cada una de las redes sociales evaluadas: Facebook, Twitter, Instagram y LinkedIn. Se observa una tendencia creciente que ha motivado la actualización de las metas para la vigencia 2021 con respecto a las del período anterior, y aunque se han trazado retos que superan los resultados de las cinco últimas mediciones, las cifras continúan siendo ascendentes. Lo anterior evidencia el impacto positivo de las estrategias comunicacionales para fortalecer las relaciones con las diferentes partes interesadas. Es importante anotar el gran impacto que ha generado el ingreso del ITM a una nueva red denominada LinkedIn: red social orientada al uso empresarial, a los negocios y al empleo. Los resultados superaron las expectativas y sigue creciendo como otra herramienta estratégica. Facebook, Instagram, Twitter y LinkedIn hacen parte de la estrategia digital liderada por la Dirección de Comunicaciones y Publicaciones, donde la primera de estas se mantiene como el canal digital con mayor número de seguidores entre los estudiantes y demás partes interesadas, aunque Twitter, Instagram y LinkedIn siguen incrementando el número de seguidores con respecto al período anterior. Es importante destacar que, para el año 2021 y en respuesta a la contingencia de la actual pandemia, las redes sociales del ITM siguen consolidándose como principal canal de comunicación e interacción con los estudiantes y demás usuarios. Los usuarios reportan las redes institucionales como el primer medio de comunicación en el cual reciben respuesta a sus inquietudes de manera oportuna, seguido del correo electrónico. Pensando en las diferentes partes de interés, la Dirección de Comunicaciones y Publicaciones desarrollo una estrategia diferencial para la publicación de contenidos en cada una de las redes, teniendo en cuenta el perfil de los usuarios, para una adecuada segmentación de la comunicación como elemento estratégico.
B67: Algunos aspectos a destacar: . En la red social Facebook, para el 2021-2 el ITM pasó de 41.286 seguidores a 46.205. . En la red social Twitter, para el 2021-2 el ITM pasó de 12.284 seguidores a 12.693 . . En la red social Instagram, para el 2021-2 el ITM pasó de 27.250 seguidores a 30.055. . En la red social LinkedIn, para el 2021-2 el ITM pasó de 6.043 seguidores a 7.990 . Los resultados obtenidos frente a la cantidad de seguidores no solo se dan por efectos de la demanda de los usuarios, sino que también son fruto de las acciones generadas desde la Dirección de Comunicaciones y Publicaciones, entre las cuales se destacan las siguientes: Creación de un plan de contenidos estratégicos que tiene un alcance a todos los procesos ITM y la documentación de un Manual para el cubrimiento de los eventos institucionales en redes sociales. Lo anterior, con el fin de mejorar los procesos de planificación y estandarización de acciones. Este indicador se complementa con la medición del nivel de compromiso o engagement de los seguidores de la marca ITM en las distintas redes de la Institución.
B76: FACEBOOK
B87: INSTAGRAM
...

Sheet Gráficas comunicaciones
A1: Semestre | B1: Facebook - Número de seguidores de la marca ITM | C1: Resultado de la medición del indicador Facebook
A2: 2017-1 | B2: =+'Ficha 3 SEMESTRAL '!C29 -> 19903 | C2: =+'Ficha 3 SEMESTRAL '!D29 -> 0.99814443
A3: 2017-2 | B3: =+'Ficha 3 SEMESTRAL '!C30 -> 23358 | C3: =+'Ficha 3 SEMESTRAL '!D30 -> 1.1714142
A4: 2018-1 | B4: =+'Ficha 3 SEMESTRAL '!C31 -> 26116 | C4: =+'Ficha 3 SEMESTRAL '!D31 -> 0.9590188
A5: 2018-2 | B5: =+'Ficha 3 SEMESTRAL '!C32 -> 28624 | C5: =+'Ficha 3 SEMESTRAL '!D32 -> 1.0511163
A6: 2019-1 | B6: =+'Ficha 3 SEMESTRAL '!C33 -> 31352 | C6: =+'Ficha 3 SEMESTRAL '!D33 -> 1.1512926
A7: 2019-2 | B7: =+'Ficha 3 SEMESTRAL '!C34 -> 33999 | C7: =+'Ficha 3 SEMESTRAL '!D34 -> 1.2484944
A8: 2020-1 | B8: =+'Ficha 3 SEMESTRAL '!C35 -> 36585 | C8: =+'Ficha 3 SEMESTRAL '!D35 -> 1.3434562
A9: 2020-2 | B9: =+'Ficha 3 SEMESTRAL '!C36 -> 39050 | C9: =+'Ficha 3 SEMESTRAL '!D36 -> 1.4339747
A10: 2021-1 | B10: =+'Ficha 3 SEMESTRAL '!C37 -> 41286 | C10: =+'Ficha 3 SEMESTRAL '!D37 -> 1.0864737
A29: Semestre | B29: Twitter - Número de seguidores de la marca ITM | C29: Resultado de la medición del indicador Twitter
A30: 2017-1 | B30: =+'Ficha 3 SEMESTRAL '!E29 -> 6030 | C30: =+'Ficha 3 SEMESTRAL '!F29 -> 0.90107591
A31: 2017-2 | B31: =+'Ficha 3 SEMESTRAL '!E30 -> 6675 | C31: =+'Ficha 3 SEMESTRAL '!F30 -> 0.99745965
A32: 2018-1 | B32: =+'Ficha 3 SEMESTRAL '!E31 -> 7349 | C32: =+'Ficha 3 SEMESTRAL '!F31 -> 0.90149657
A33: 2018-2 | B33: =+'Ficha 3 SEMESTRAL '!E32 -> 7961 | C33: =+'Ficha 3 SEMESTRAL '!F32 -> 0.97657017
A34: 2019-1 | B34: =+'Ficha 3 SEMESTRAL '!E33 -> 8776 | C34: =+'Ficha 3 SEMESTRAL '!F33 -> 1.0765456
A35: 2019-2 | B35: =+'Ficha 3 SEMESTRAL '!E34 -> 9703 | C35: =+'Ficha 3 SEMESTRAL '!F34 -> 1.1902601
A36: 2020-1 | B36: =+'Ficha 3 SEMESTRAL '!E35 -> 11066 | C36: =+'Ficha 3 SEMESTRAL '!F35 -> 1.3574583
A37: 2020-2 | B37: =+'Ficha 3 SEMESTRAL '!E36 -> 11658 | C37: =+'Ficha 3 SEMESTRAL '!F36 -> 1.4300785
A38: 2021-1 | B38: =+'Ficha 3 SEMESTRAL '!E37 -> 12284 | C38: =+'Ficha 3 SEMESTRAL '!F37 -> 1.0681739
A56: Semestre | B56: Instagram - Número de seguidores de la marca ITM | C56: Resultado de la medición del indicador Instagram
A57: 2017-1 | B57: =+'Ficha 3 SEMESTRAL '!G29 -> 1233 | C57: =+'Ficha 3 SEMESTRAL '!H29 -> 0.94846154
A58: 2017-2 | B58: =+'Ficha 3 SEMESTRAL '!G30 -> 2181 | C58: =+'Ficha 3 SEMESTRAL '!H30 -> 1.6776923
A59: 2018-1 | B59: =+'Ficha 3 SEMESTRAL '!G31 -> 3738 | C59: =+'Ficha 3 SEMESTRAL '!H31 -> 0.95723431
A60: 2018-2 | B60: =+'Ficha 3 SEMESTRAL '!G32 -> 6724 | C60: =+'Ficha 3 SEMESTRAL '!H32 -> 1.721895
A61: 2019-1 | B61: =+'Ficha 3 SEMESTRAL '!G33 -> 10674 | C61: =+'Ficha 3 SEMESTRAL '!H33 -> 2.7334187
A62: 2019-2 | B62: =+'Ficha 3 SEMESTRAL '!G34 -> 15311 | C62: =+'Ficha 3 SEMESTRAL '!H34 -> 3.9208707
A63: 2020-1 | B63: =+'Ficha 3 SEMESTRAL '!G35 -> 21824 | C63: =+'Ficha 3 SEMESTRAL '!H35 -> 5.5887324
A64: 2020-2 | B64: =+'Ficha 3 SEMESTRAL '!G36 -> 24940 | C64: =+'Ficha 3 SEMESTRAL '!H36 -> 6.3866837
A65: 2021-1 | B65: =+'Ficha 3 SEMESTRAL '!G37 -> 27250 | C65: =+'Ficha 3 SEMESTRAL '!H37 -> 1.1595745
A96: Semestre | B96: LinkedIn - Número de seguidores de la marca ITM | C96: Resultado de la medición del indicador LinkedIn
A97: 2017-1 | B97: =+'Ficha 3 SEMESTRAL '!I29 -> 0 | C97: =+'Ficha 3 SEMESTRAL '!J29 -> 0
A98: 2017-2 | B98: =+'Ficha 3 SEMESTRAL '!I30 -> 0 | C98: =+'Ficha 3 SEMESTRAL '!J30 -> 0
A99: 2018-1 | B99: =+'Ficha 3 SEMESTRAL '!I31 -> 0 | C99: =+'Ficha 3 SEMESTRAL '!J31 -> 0
A100: 2018-2 | B100: =+'Ficha 3 SEMESTRAL '!I32 -> 0 | C100: =+'Ficha 3 SEMESTRAL '!J32 -> 0
A101: 2019-1 | B101: =+'Ficha 3 SEMESTRAL '!I33 -> 0 | C101: =+'Ficha 3 SEMESTRAL '!J33 -> 0
A102: 2019-2 | B102: =+'Ficha 3 SEMESTRAL '!I34 -> 0 | C102: =+'Ficha 3 SEMESTRAL '!J34 -> 0
A103: 2020-1 | B103: =+'Ficha 3 SEMESTRAL '!I35 -> 0 | C103: =+'Ficha 3 SEMESTRAL '!J35 -> 0
A104: 2020-2 | B104: =+'Ficha 3 SEMESTRAL '!I36 -> 3485 | C104: =+'Ficha 3 SEMESTRAL '!J36 -> 1.1616667
A105: 2021-1 | B105: =+'Ficha 3 SEMESTRAL '!I37 -> 6043 | C105: =+'Ficha 3 SEMESTRAL '!J37 -> 1.2086
...

Sheet Listas
A1: Gestión Estratégica
A2: Gestión de la Internacionalización
A3: Gestión Curricular
A4: Extensión y Proyección Social
A5: Gestión de Ciencia Tecnología e Innovación
A6: Bienestar Institucional
A7: Gestión de Cultura Científica y Tecnológica
A8: Gestión de Laboratorios
A9: Gestión Financiera
A10: Adquisición de Bienes, Obras y Servicios
A11: Administración de Bienes y Plataforma Tecnológica
A12: Gestión del Talento Humano
... A26: Diciembre 31 de 2018
