Workbook
Name OLE_LINK1: PASIVO!$C$9

Sheet ACTIVO 
A1: INSTITUTO TECNOLÓGICO METROPOLITANO
A2: Estado de Situación Financiera Comparativo
A3: A Marzo 31 de 2024
A4: (Cifras en pesos Colombianos)
A6: ACTIVO | B6: NOTA | C6: MARZO 2024 | E6: DICIEMBRE 2023 | G6: VARIACION | I6: VARIACION
G7: % | I7: $
A8: CORRIENTE
A9: Efectivo y Equivalentes de Efectivo | B9: 5 | C9: 80392994305 | E9: 68931507399 | G9: =I9/E9 -> 0.16627356 | I9: =+C9-E9 -> 11461486906
A10: Cuentas por Cobrar | B10: 7 | C10: 33921570039 | E10: 8447858062 | G10: =I10/E10 -> 3.0154048 | I10: =+C10-E10 -> 25473711977
A11: =+A20 -> Prestamos por Cobrar | B11: 8 | C11: 183054892 | E11: 176071966 | G11: =I11/E11 -> 0.039659499 | I11: =+C11-E11 -> 6982926
A12: Inventarios | B12: 9 | C12: 508254893 | E12: 559463047 | G12: =I12/E12 -> -0.091530896 | I12: =+C12-E12 -> -51208154
A13: Otros derechos y garantías | B13: 16 | C13: 17071216392 | E13: 21974972469 | G13: =I13/E13 -> -0.22315186 | I13: =+C13-E13 -> -4903756077
A14: Arrendamientos | B14: 17 | C14: 17105790 | E14: 3075779 | G14: =I14/E14 -> 4.5614496 | I14: =+C14-E14 -> 14030011
A16: TOTAL ACTIVO CORRIENTE | C16: =SUM(C9:C15) -> 132094196311 | D16: =C16/C26 -> 0.33214835 | E16: =SUM(E9:E15) -> 100092948722 | F16: =E16/E26 -> 0.27251453 | G16: =I16/E16 -> 0.3197153 | I16: =C16-E16 -> 32001247589
A18: NO CORRIENTE
A19: =+A10 -> Cuentas por Cobrar | B19: 7 | C19: 32610035 | E19: 39356274 | G19: =+I19/E19 -> -0.17141458 | I19: =+C19-E19 -> -6746239
A20: Prestamos por Cobrar | B20: 8 | C20: 759638945 | E20: 796983199 | G20: =I20/E20 -> -0.046857015 | I20: =+C20-E20 -> -37344254
A21: Activos Intangibles | B21: 14 | C21: 497092305 | E21: 549045919 | G21: =I21/E21 -> -0.094625262 | I21: =+C21-E21 -> -51953614
A22: Propiedad, Planta y Equipo | B22: 10 | C22: 264312845224 | E22: 265815657788 | G22: =I22/E22 -> -0.0056535893 | I22: =+C22-E22 -> -1502812564
A24: TOTAL ACTIVO NO CORRIENTE | C24: =SUM(C19:C23) -> 265602186509 | D24: =C24/C26 -> 0.66785165 | E24: =SUM(E19:E23) -> 267201043180 | F24: =E24/E26 -> 0.72748547 | G24: =I24/E24 -> -0.0059837217 | I24: =+C24-E24 -> -1598856671
A26: TOTAL ACTIVO | C26: =C16+C24 -> 397696382820 | D26: =SUM(D16:D24) -> 1 | E26: =E16+E24 -> 367293991902 | F26: =SUM(F16:F24) -> 1 | G26: =I26/E26 -> 0.082773995 | I26: =+C26-E26 -> 30402390918
A28: DEUDORAS DE CONTROL
A29: Activos Contingentes | B29: 26 | C29: =+E29 -> 167286735 | E29: 167286735 | G29: =I29/E29 -> 0 | I29: =C29-E29 -> 0
A30: Deudoras de Control | C30: 3700063699 | E30: 14447576315 | G30: =I30/E30 -> -0.74389727 | I30: =C30-E30 -> -10747512616
A33: =+'ESTADO DE RESULTADOS'!A35 -> ALEJANDRO VILLA GOMEZ | C33: NIDIA TORRES HOLGUIN | G33: NATALIA MONTOYA CRUZ
A34: RECTOR | C34: JEFE DE OFICINA-DPTO FINANCIERO y COMERCIAL CONTADORA T.P. 47390-T
A35: Las notas que se acompañan son parte integrante de los estados contables

Sheet PASIVO
A1: INSTITUTO TECNOLÓGICO METROPOLITANO
A2: Estado de Situación Financiera Comparativo
A3: A Marzo 31 de 2024
A4: (Cifras en pesos Colombianos)
A6: PASIVO | B6: NOTAS | C6: MARZO 2024 | E6: DICIEMBRE 2023 | G6: VARIACION | I6: VARIACION
G7: % | I7: $
A8: PASIVOS CORRIENTES
A9: Cuentas por pagar | B9: 21 | C9: 10443956858 | E9: 12943356030 | G9: =I9/E9 -> -0.19310287 | I9: =OLE_LINK1-E9 -> -2499399172
A10: Beneficios a los empleados | B10: 22 | C10: 7819613201 | E10: 3556365975 | G10: =I10/E10 -> 1.198765 | I10: =C10-E10 -> 4263247226
A11: Otros Pasivos | B11: 24 | C11: 33836513010 | E11: 19345152241 | G11: =I11/E11 -> 0.7490952 | I11: =C11-E11 -> 14491360769
A12: Total pasivos corrientes | C12: =SUM(C9:C11) -> 52100083069 | D12: =C12/C19 -> 0.88678747 | E12: =SUM(E9:E11) -> 35844874246 | F12: =E12/E19 -> 0.85213664 | G12: =I12/E12 -> 0.45348768 | I12: =C12-E12 -> 16255208823
A14: PASIVOS NO CORRIENTES
A15: Beneficios a los empleados | B15: 22 | C15: 1581172887 | E15: 1149597116 | G15: =I15/E15 -> 0.3754148 | I15: =C15-E15 -> 431575771
A16: Provisiones-pasivos contingentes | B16: 23 | C16: 5070231343 | E16: 5070231343 | G16: =I16/E16 -> 0 | I16: =C16-E16 -> 0
A17: Total pasivos no corrientes | C17: =SUM(C15:C16) -> 6651404230 | D17: =C17/C19 -> 0.11321253 | E17: =SUM(E15:E16) -> 6219828459 | F17: =E17/E19 -> 0.14786336 | G17: =I17/E17 -> 0.069387086 | I17: =C17-E17 -> 431575771
A19: TOTAL PASIVOS | C19: =C12+C17 -> 58751487299 | D19: =C19/C27 -> 0.1477295 | E19: =+E12+E17 -> 42064702705 | F19: =E19/E27 -> 0.11452598 | G19: =I19/E19 -> 0.39669327 | I19: =C19-E19 -> 16686784594
A21: PATRIMONIO
A22: Patrimonio entidades de Gobierno | B22: 27 | C22: =338944895521-C23 -> 324226364422 | E22: 307439456086 | G22: =I22/E22 -> 0.054602323 | I22: =C22-E22 -> 16786908336
A23: Resultado del ejercicio | C23: =+'ESTADO DE RESULTADOS'!C30 -> 14718531099 | E23: 17789833111 | G23: =I23/E23 -> -0.17264367 | I23: =C23-E23 -> -3071302012
A25: TOTAL PATRIMONIO | C25: =SUM(C22:C24) -> 338944895521 | D25: =C25/C27 -> 0.8522705 | E25: =SUM(E22:E24) -> 325229289197 | F25: =E25/E27 -> 0.88547402 | G25: =I25/E25 -> 0.042172113 | I25: =C25-E25 -> 13715606324
A27: TOTAL PASIVO MAS PATRIMONIO | C27: =C25+C19 -> 397696382820 | D27: =SUM(D19:D25) -> 1 | E27: =E19+E25 -> 367293991902 | F27: =SUM(F19:F25) -> 1 | G27: =I27/E27 -> 0.082773995 | I27: =C27-E27 -> 30402390918
A29: CUENTAS DE ORDEN ACREEDORAS | E29: =E27-'ACTIVO '!E26 -> 0
A30: Pasivos Contingentes | B30: 26 | C30: =+E30 -> -1051820713 | E30: -1051820713 | G30: =I30/E30 -> 0 | I30: =C30-E30 -> 0
A33: =+'ACTIVO '!A33 -> ALEJANDRO VILLA GOMEZ | C33: NIDIA TORRES HOLGUIN | G33: NATALIA MONTOYA CRUZ
A34: =+'ACTIVO '!A34 -> RECTOR | C34: JEFE DE OFICINA-DPTO FINANCIERO y COMERCIAL CONTADORA T.P.47390-T
A36: Las notas que se acompañan son parte integrante de los estados contables

Sheet ESTADO DE RESULTADOS
A1: =+'[1]ESF enero 2018'!A4 -> INSTITUTO TECNOLÓGICO METROPOLITANO
A2: Estado del Resultado Comparativo
A4: A Marzo 31 de 2024
A5: (Cifras en pesos Colombianos)
A8: DESCRIPCION | B8: NOTA | C8: MARZO 2024 | E8: MARZO 2023 | H8: Variacion % | J8: Variaciòn $
A10: Ingresos por venta de bienes | B10: 28 | C10: 5854161 | E10: 492000 | H10: =J10/E10 -> 10.898701 | J10: =C10-E10 -> 5362161
A11: Ingresos prestación de servicios | B11: 28 | C11: 26026959626 | E11: =34681580842.61-E12 -> 2.3267436e+10 | H11: =J11/E11 -> 0.11860024 | J11: =C11-E11 -> 2.7595235e+09
A12: Ingresos por convenios | B12: 28 | C12: 11657331147 | E12: 11414144746 | H12: =J12/E12 -> 0.021305705 | J12: =C12-E12 -> 243186401
A13: Transferencias | B13: 28 | C13: 27011993101 | E13: 30200666044 | H13: =J13/E13 -> -0.10558287 | J13: =C13-E13 -> -3188672943
A14: TOTAL INGRESOS | C14: =SUM(C10:C13) -> 64702138035 | D14: 1 | E14: =SUM(E10:E13) -> 6.4882739e+10 | G14: 1 | H14: =J14/E14 -> -0.0027834961 | J14: =SUM(J10:J13) -> -1.8060085e+08
A16: Costo por venta de bienes | B16: 30 | C16: -1910828 | E16: -1461865 | H16: =J16/E16 -> 0.30711659 | J16: =C16-E16 -> -448963
A17: Costo por prestación de servicios | B17: 30 | C17: -38226927727 | E17: =-46959791822.66-E18 -> -3.4855765e+10 | H17: =J17/E17 -> 0.096717515 | J17: =C17-E17 -> -3.3711629e+09
A18: Costo por convenios | B18: 30 | C18: -9053898320 | E18: -12104027036 | H18: =J18/E18 -> -0.25199289 | J18: =C18-E18 -> 3050128716
A19: TOTAL COSTOS | C19: =SUM(C16:C18) -> -47282736875 | D19: =C19/C14 -> -0.73077549 | E19: =SUM(E16:E18) -> -4.6961254e+10 | G19: =E19/E14 -> -0.72378655 | H19: =J19/E19 -> 0.0068457113 | J19: =C19-E19 -> -3.2148319e+08
A21: UTILIDAD BRUTA | C21: =C14+C19 -> 17419401160 | D21: =C21/C14 -> 0.26922451 | E21: =E14+E19 -> 1.7921485e+10 | G21: =E21/E14 -> 0.27621345 | H21: =J21/E21 -> -0.028015761 | J21: =C21-E21 -> -5.0208404e+08
A23: Gastos de administración y operación | B23: 29 | C23: -3561122506 | E23: -3.4867519e+09 | H23: =J23/E23 -> 0.021329469 | J23: =C23-E23 -> -74370567
A24: Gastos Deterioro,deprec. y amortizacion- provis | B24: 29 | C24: -52362829 | E24: -51183038 | H24: =J24/E24 -> 0.023050435 | J24: =C24-E24 -> -1179791.3
A25: UTILIDAD OPERACIONAL | C25: =SUM(C21:C24) -> 13805915825 | D25: =C25/C14 -> 0.2133765 | E25: =SUM(E21:E24) -> 1.438355e+10 | G25: =E25/E14 -> 0.22168531 | H25: =J25/E25 -> -0.040159376 | J25: =C25-E25 -> -5.776344e+08
A27: Otros Ingresos | B27: 28 | C27: 1000015044 | D27: =C27/C14 -> 0.015455672 | E27: 898368688 | G27: =E27/E14 -> 0.013846035 | H27: =J27/E27 -> 0.11314548 | J27: =C27-E27 -> 101646356
A28: Otros Gastos | B28: 29 | C28: -87399770 | D28: =C28/C14 -> -0.0013508019 | E28: -25903350 | G28: =E28/E14 -> -0.0003992333 | H28: =J28/E28 -> 2.3740721 | J28: =C28-E28 -> -61496420
A30: RESULTADOS DEL EJERCICIO | C30: =SUM(C25:C28) -> 14718531099 | D30: =C30/C14 -> 0.22748137 | E30: =SUM(E25:E28) -> 1.5256016e+10 | G30: =E30/E14 -> 0.23513211 | H30: =J30/E30 -> -0.035230985 | J30: =C30-E30 -> -5.3748446e+08
A35: ALEJANDRO VILLA GOMEZ | C35: NIDIA TORRES HOLGUIN | H35: NATALIA | J35: MONTOYA CRUZ
A36: RECTOR | C36: =+PASIVO!C34 -> JEFE DE OFICINA-DPTO FINANCIERO y COMERCIAL CONTADORA T.P.47390-T | H36: CONTADORA 47.390-T
A39: Las notas que se acompañan son parte integrante de los estados contables

Sheet INDICADORES
A1: INSTITUTO TECNOLOGICO METROPOLITANO
A2: INDICADORES FINANCIEROS - A Marzo 31 de 2024
A4: Datos de los Estados Financieros a Marzo 31:
A5: Activo corriente | C5: =+'ACTIVO '!C16 -> 132094196311
A6: Activo no corriente | C6: =+'ACTIVO '!C24 -> 265602186509
A7: Propiedad, planta y equipos- Neto | C7: =+'ACTIVO '!C22 -> 264312845224
A8: Valorizaciones | C8: 0
A9: Total del Activo | C9: =+'ACTIVO '!C26 -> 397696382820
A10: Pasivo Corriente | C10: =+PASIVO!C12 -> 52100083069
A11: Pasivo no corriente | C11: =+PASIVO!C17 -> 6651404230
A12: Total del pasivo | C12: =+PASIVO!C19 -> 58751487299
A13: Patrimonio | C13: =+PASIVO!C25 -> 338944895521
A14: Ingresos Operacionales | C14: =+'ESTADO DE RESULTADOS'!C14 -> 64702138035
A15: Otros Ingresos | C15: =+'ESTADO DE RESULTADOS'!C27 -> 1000015044
A16: Ingresos Totales | C16: =C14+'ESTADO DE RESULTADOS'!C27 -> 65702153079
A17: Costo de Venta | C17: =+'ESTADO DE RESULTADOS'!C19 -> -47282736875
A18: Total Costos y Gastos | C18: =+'ESTADO DE RESULTADOS'!C19+'ESTADO DE RESULTADOS'!C23+'ESTADO DE RESULTADOS'!C24 -> -50896222210
A19: Excedente Operacional | C19: =+'ESTADO DE RESULTADOS'!C25 -> 13805915825
A20: Excedente del Ejercicio | C20: =+'ESTADO DE RESULTADOS'!C30 -> 14718531099
A22: NOMBRE DEL INDICADOR | C22: RESULTADO | E22: INTERPRETACIÓN Y ANÁLISIS DEL RESULTADO
A24: SITUACIÓN DE TESORERÍA
A25: a- Capital de Trabajo | C25: =+C5-C10 -> 79994113242 | E25: Indica, que a Diciembre 31 de 2023, el Instituto tenía $64'248.074.476 de su activo corriente financiados con recursos de largo plazo. Es decir, es lo que le quedaria al instituto despues de liquidar sus pasivos en caso de que tuviera que hacerlo, al ser positivo es bueno para la Institucion el contar con un capital que le permita resolver el pago de pasivo inmediatos.
A26: Activo Corriente - Pasivo Corriente
A29: ESTRUCTURA DE LA INVERSIÓN
A31: a- Activo Corriente / Activo Total | C31: =+C5/C9 -> 0.33214835 | E31: El activo corriente o activo a corto plazo del Instituto, representa el 33.21% del total de los activos, lo que indica una buena participación de disponibilidad de recursos.
A34: b- Activo no Corriente / Activo Total | C34: =+C6/C9 -> 0.66785165 | E34: El activo no corriente o activo a largo plazo sin considerar las valorizaciones, representa el 66.79% del total de los activos.
A37: c- Propiedad y Planta y Equipo / | C37: =+C7/C9 -> 0.66460963 | E37: El valor de la propiedad planta y equipo descontada la depreciación, representa el 66.46% del total de los activos.
A38: Activo Total
A40: d- Deudores corto plazo / Capital de Trabajo | C40: =+'[2]ACTIVO nicsp'!C10/C25 -> 0.071696405 | E40: Los deudores representan el 7.17% del total del Capital de Trabajo, lo cual es un compromiso muy minimo que presenta la entidad con terceros.
A43: e- Inventarios / Capital de Trabajo | C43: =+'[2]ACTIVO nicsp'!C12/C25 -> 0.0084495097 | E43: Los inventarios representaban el 0.84% del total del capital de trabajo.
A45: LIQUIDEZ
A47: a- Activo Corriente / Pasivo Corriente | C47: =+C5/C10 -> 2.5353932 | E47: El Instituto tiene una razón corriente de 2.54 a 1,00. Esto quiere decir, en principio, que por cada $1 que el Instituto debe en el corto plazo cuenta con $ 2.54 para respaldar esa obligación, lo cual es positivo para el ITM toda vez que demuestra su capacidad financiera y buen manejo financiero.
A50: b- Activo Corriente - Inventarios / Pasivo Corriente | C50: =+(C5-[3]ACTIVO!C12)/[3]INDICADORES!C11 -> 3.1246484 | E50: Por cada peso de deuda a cubrir en un periodo menor de un año, el Instituto cuenta con $3.12 pesos del activos corrientes sin tener que recurrir a la venta de los inventarios, lo cual es positivo para el ITM porque se demuestra buena liquidez que permite no tener que vender los inventarios para el pago de las obligaciones a corto plazo.
A53: ENDEUDAMIENTO
A54: a- Pasivo Total / Activo Total | C54: =+C12/C9 -> 0.1477295 | E54: El Instituto esta financiando el 14.77% del total de sus activos, con recursos de terceros
A57: b- Pasivo Corriente / Activo Total | C57: =+C10/C9 -> 0.13100467 | E57: El Instituto esta financiando el 13.10% del total de sus activos con pasivos a corto plazo.
A60: c- Pasivo a Largo Plazo / Activo Total | C60: =+C11/C9 -> 0.01672483 | E60: El pasivo a largo plazo representa el 1.67% del total de sus activos.
A63: SOLVENCIA
A65: a- Patrimonio / Activo Total | C65: =+C13/C9 -> 0.8522705 | E65: El Patrimonio neto del Instituto, representa un 85.23% del total de los Activos.
A68: INDICADORES DE ACTIVIDAD
...

Sheet graficas balance
A1: =#REF! -> #REF!
A2: Descripcion | B2: ACTIVO | C2: PASIVO | D2: PATRIMONIO
A3: 45352 | B3: 397696.38 | C3: 58751.487 | D3: 338944.9
A4: 44986 | B4: 367293.99 | C4: 42064.703 | D4: 325229.29
I6: Variac % | J6: 8.28% | K6: 39.67% | L6: 4.22%
A38: JUSTIFICACION DE LAS VARIACIONES EN EL ESTADO DE LA SITUACION FINANCIERA A MAR/2024 VS DIC 2023
A40: El incremento en el efectivo y equivalente de efectivo, se debe a los recursos recibidos de los nuevos contratos interadministrativos firmados con el Distrito de Medellín.
A41: El incremento en las cuentas por cobrar se debió al registro de las matrículas de pregrado del periodo 2024-1, la cual en su gran mayoría está pendiente por pagar por parte de las entidades beneficiarias: SAPIENCIA Y MEN.
A42: El incremento en los pasivos es ocasionado por los recaudos recibidos por anticipado para la ejecucion de los contratos interadminsitrativos con el Distrito con el Medellín, que normalmente empiezan a ejecutarse en marzo/2024.
A43: el incremento patrimonial se debe principalmente al efecto de la utilidad acumulada a marzo por $ 14.718.531.099.

Sheet Grafica Estado Resultad
B1: DATOS
B2: Descripcion | C2: INGRESOS | D2: COSTOS | E2: GASTOS | F2: O.GTOS | G2: O.INGRES | H2: RESULTADOS
B3: 45352 | C3: 64702.138 | D3: 47282.737 | E3: 3613.4853 | F3: 87.39977 | G3: 1000.015 | H3: 14718.531
B4: 44986 | C4: 64882.739 | D4: 46961.254 | E4: 3537.935 | F4: 25.90335 | G4: 898.36869 | H4: 15256.016 | L4: Descripcion | M4: INGRESOS | N4: COSTOS | O4: GASTOS | P4: O.GTOS | Q4: O.INGRES | R4: RESULTADOS
L5: Variac % | M5: -0.28% | N5: 0.68% | O5: 2.14% | P5: 237.41% | Q5: 11.31% | R5: -3.52%
A39: JUSTIFICACION DE LAS VARIACIONES EN EL ESTADO DE RESULTADOS DE MAR/2024 VS MAR 2023
A41: El incremento que más se destaca está en los otros ingresos y corresponde a la Reposición de una Micro Swithc MS450 por la compañía de seguros AXA COLPATRIA por $ 209.702.528.
A42: El incremento en los otros gastos corresponde a las salidas que realiza el área de bienes por los activos fijos como equipos de computo y muebles y enseres ya sea para reposición y/o por inservibles ,por valor de $52.219.229
